Package: ExperimentHubData Version: 1.32.0 Command: /home/biocbuild/R/R/bin/R CMD INSTALL ExperimentHubData StartedAt: 2025-01-30 20:37:41 -0000 (Thu, 30 Jan 2025) EndedAt: 2025-01-30 20:38:31 -0000 (Thu, 30 Jan 2025) EllapsedTime: 49.4 seconds RetCode: 0 Status: OK