Package: ExperimentSubset Version: 1.16.0 Command: /Library/Frameworks/R.framework/Resources/bin/R CMD INSTALL ExperimentSubset StartedAt: 2025-02-03 15:53:12 -0500 (Mon, 03 Feb 2025) EndedAt: 2025-02-03 15:54:37 -0500 (Mon, 03 Feb 2025) EllapsedTime: 85.1 seconds RetCode: 0 Status: OK