Package: ExperimentSubset Version: 1.16.0 Command: /home/biocbuild/R/R/bin/R CMD check --install=check:ExperimentSubset.install-out.txt --library=/home/biocbuild/R/R/site-library --no-vignettes --timings ExperimentSubset_1.16.0.tar.gz StartedAt: 2025-02-04 06:56:28 -0000 (Tue, 04 Feb 2025) EndedAt: 2025-02-04 07:02:15 -0000 (Tue, 04 Feb 2025) EllapsedTime: 347.5 seconds RetCode: 0 Status: OK CheckDir: ExperimentSubset.Rcheck Warnings: 0