Package: ExploreModelMatrix Version: 1.18.0 Command: /Library/Frameworks/R.framework/Resources/bin/R CMD build --keep-empty-dirs --no-resave-data ExploreModelMatrix StartedAt: 2025-02-03 23:27:58 -0500 (Mon, 03 Feb 2025) EndedAt: 2025-02-03 23:28:18 -0500 (Mon, 03 Feb 2025) EllapsedTime: 19.9 seconds RetCode: 0 Status: OK PackageFile: ExploreModelMatrix_1.18.0.tar.gz PackageFileSize: 2.611 MiB