Package: ExploreModelMatrix Version: 1.18.0 Command: /Library/Frameworks/R.framework/Resources/bin/R CMD check --install=check:ExploreModelMatrix.install-out.txt --library=/Library/Frameworks/R.framework/Resources/library --no-vignettes --timings ExploreModelMatrix_1.18.0.tar.gz StartedAt: 2025-02-04 19:35:29 -0500 (Tue, 04 Feb 2025) EndedAt: 2025-02-04 19:36:42 -0500 (Tue, 04 Feb 2025) EllapsedTime: 73.2 seconds RetCode: 0 Status: OK CheckDir: ExploreModelMatrix.Rcheck Warnings: 0