Package: ExploreModelMatrix Version: 1.18.0 Command: /Library/Frameworks/R.framework/Resources/bin/R CMD check --install=check:ExploreModelMatrix.install-out.txt --library=/Library/Frameworks/R.framework/Resources/library --no-vignettes --timings ExploreModelMatrix_1.18.0.tar.gz StartedAt: 2025-02-04 03:35:28 -0500 (Tue, 04 Feb 2025) EndedAt: 2025-02-04 03:38:02 -0500 (Tue, 04 Feb 2025) EllapsedTime: 153.9 seconds RetCode: 0 Status: OK CheckDir: ExploreModelMatrix.Rcheck Warnings: 0