Package: ExploreModelMatrix Version: 1.18.0 Command: rm -rf ExploreModelMatrix.buildbin-libdir && mkdir ExploreModelMatrix.buildbin-libdir && F:\biocbuild\bbs-3.20-bioc\R\bin\R.exe CMD INSTALL --build --library=ExploreModelMatrix.buildbin-libdir ExploreModelMatrix_1.18.0.tar.gz StartedAt: 2025-02-11 08:26:42 -0500 (Tue, 11 Feb 2025) EndedAt: 2025-02-11 08:27:23 -0500 (Tue, 11 Feb 2025) EllapsedTime: 40.7 seconds RetCode: 0 Status: OK PackageFile: ExploreModelMatrix_1.18.0.zip PackageFileSize: 2.488 MiB