Package: ExploreModelMatrix Version: 1.18.0 Command: F:\biocbuild\bbs-3.20-bioc\R\bin\R.exe CMD check --no-multiarch --install=check:ExploreModelMatrix.install-out.txt --library=F:\biocbuild\bbs-3.20-bioc\R\library --no-vignettes --timings ExploreModelMatrix_1.18.0.tar.gz StartedAt: 2025-02-04 01:45:44 -0500 (Tue, 04 Feb 2025) EndedAt: 2025-02-04 01:47:03 -0500 (Tue, 04 Feb 2025) EllapsedTime: 79.5 seconds RetCode: 0 Status: OK CheckDir: ExploreModelMatrix.Rcheck Warnings: 0