Package: ExploreModelMatrix Version: 1.18.0 Command: F:\biocbuild\bbs-3.20-bioc\R\bin\R.exe CMD INSTALL ExploreModelMatrix StartedAt: 2025-02-03 15:56:27 -0500 (Mon, 03 Feb 2025) EndedAt: 2025-02-03 15:56:44 -0500 (Mon, 03 Feb 2025) EllapsedTime: 17.6 seconds RetCode: 0 Status: OK