Package: ExpressionAtlas Version: 1.34.0 Command: /Library/Frameworks/R.framework/Resources/bin/R CMD build --keep-empty-dirs --no-resave-data ExpressionAtlas StartedAt: 2025-02-03 23:28:18 -0500 (Mon, 03 Feb 2025) EndedAt: 2025-02-03 23:28:59 -0500 (Mon, 03 Feb 2025) EllapsedTime: 40.8 seconds RetCode: 0 Status: OK PackageFile: ExpressionAtlas_1.34.0.tar.gz PackageFileSize: 319.2 KiB