Package: ExpressionAtlas Version: 1.34.0 Command: /Library/Frameworks/R.framework/Resources/bin/R CMD check --install=check:ExpressionAtlas.install-out.txt --library=/Library/Frameworks/R.framework/Resources/library --no-vignettes --timings ExpressionAtlas_1.34.0.tar.gz StartedAt: 2025-02-04 19:35:54 -0500 (Tue, 04 Feb 2025) EndedAt: 2025-02-04 19:39:11 -0500 (Tue, 04 Feb 2025) EllapsedTime: 196.9 seconds RetCode: 0 Status: OK CheckDir: ExpressionAtlas.Rcheck Warnings: 0