Package: ExpressionAtlas Version: 1.34.0 Command: rm -rf ExpressionAtlas.buildbin-libdir && mkdir ExpressionAtlas.buildbin-libdir && /Users/biocbuild/BBS/utils/build-universal.sh ExpressionAtlas_1.34.0.tar.gz /Library/Frameworks/R.framework/Resources/bin/R ExpressionAtlas.buildbin-libdir StartedAt: 2025-02-04 12:55:54 -0500 (Tue, 04 Feb 2025) EndedAt: 2025-02-04 12:56:46 -0500 (Tue, 04 Feb 2025) EllapsedTime: 52.4 seconds RetCode: 0 Status: OK PackageFile: ExpressionAtlas_1.34.0.tgz PackageFileSize: 346.1 KiB