Package: ExpressionAtlas Version: 1.34.0 Command: /Library/Frameworks/R.framework/Resources/bin/R CMD build --keep-empty-dirs --no-resave-data ExpressionAtlas StartedAt: 2025-02-03 18:53:58 -0500 (Mon, 03 Feb 2025) EndedAt: 2025-02-03 18:55:07 -0500 (Mon, 03 Feb 2025) EllapsedTime: 68.8 seconds RetCode: 0 Status: OK PackageFile: ExpressionAtlas_1.34.0.tar.gz PackageFileSize: 319 KiB