Package: ExpressionAtlas Version: 1.34.0 Command: /Library/Frameworks/R.framework/Resources/bin/R CMD INSTALL ExpressionAtlas StartedAt: 2025-02-03 16:03:40 -0500 (Mon, 03 Feb 2025) EndedAt: 2025-02-03 16:04:29 -0500 (Mon, 03 Feb 2025) EllapsedTime: 48.5 seconds RetCode: 0 Status: OK