Package: ExpressionAtlas Version: 1.34.0 Command: rm -rf ExpressionAtlas.buildbin-libdir && mkdir ExpressionAtlas.buildbin-libdir && F:\biocbuild\bbs-3.20-bioc\R\bin\R.exe CMD INSTALL --build --library=ExpressionAtlas.buildbin-libdir ExpressionAtlas_1.34.0.tar.gz StartedAt: 2025-02-04 08:28:48 -0500 (Tue, 04 Feb 2025) EndedAt: 2025-02-04 08:29:25 -0500 (Tue, 04 Feb 2025) EllapsedTime: 36.5 seconds RetCode: 0 Status: OK PackageFile: ExpressionAtlas_1.34.0.zip PackageFileSize: 351.1 KiB