Package: ExpressionAtlas Version: 1.34.0 Command: chmod a+r ExpressionAtlas -R && F:\biocbuild\bbs-3.20-bioc\R\bin\R.exe CMD build --keep-empty-dirs --no-resave-data ExpressionAtlas StartedAt: 2025-02-03 19:03:52 -0500 (Mon, 03 Feb 2025) EndedAt: 2025-02-03 19:04:30 -0500 (Mon, 03 Feb 2025) EllapsedTime: 38.1 seconds RetCode: 0 Status: OK PackageFile: ExpressionAtlas_1.34.0.tar.gz PackageFileSize: 319 KiB