Package: ExpressionAtlas Version: 1.34.0 Command: F:\biocbuild\bbs-3.20-bioc\R\bin\R.exe CMD check --no-multiarch --install=check:ExpressionAtlas.install-out.txt --library=F:\biocbuild\bbs-3.20-bioc\R\library --no-vignettes --timings ExpressionAtlas_1.34.0.tar.gz StartedAt: 2025-02-04 01:46:11 -0500 (Tue, 04 Feb 2025) EndedAt: 2025-02-04 01:49:50 -0500 (Tue, 04 Feb 2025) EllapsedTime: 219.1 seconds RetCode: 0 Status: OK CheckDir: ExpressionAtlas.Rcheck Warnings: 0