Package: FELLA Version: 1.26.0 Command: /home/biocbuild/R/R/bin/R CMD build --keep-empty-dirs --no-resave-data FELLA StartedAt: 2024-11-20 00:42:12 -0000 (Wed, 20 Nov 2024) EndedAt: 2024-11-20 01:22:12 -0000 (Wed, 20 Nov 2024) EllapsedTime: 2400.3 seconds RetCode: None Status: TIMEOUT PackageFile: None PackageFileSize: NA