Package: FELLA Version: 1.26.0 Command: /Library/Frameworks/R.framework/Resources/bin/R CMD build --keep-empty-dirs --no-resave-data FELLA StartedAt: 2025-01-30 19:06:31 -0500 (Thu, 30 Jan 2025) EndedAt: 2025-01-30 19:43:01 -0500 (Thu, 30 Jan 2025) EllapsedTime: 2189.8 seconds RetCode: 0 Status: OK PackageFile: FELLA_1.26.0.tar.gz PackageFileSize: 4.315 MiB