Package: FELLA Version: 1.26.0 Command: /Library/Frameworks/R.framework/Resources/bin/R CMD INSTALL FELLA StartedAt: 2025-01-30 15:17:37 -0500 (Thu, 30 Jan 2025) EndedAt: 2025-01-30 15:18:15 -0500 (Thu, 30 Jan 2025) EllapsedTime: 37.6 seconds RetCode: 0 Status: OK