Package: FELLA Version: 1.26.0 Command: chmod a+r FELLA -R && F:\biocbuild\bbs-3.20-bioc\R\bin\R.exe CMD build --keep-empty-dirs --no-resave-data FELLA StartedAt: 2025-02-03 19:07:52 -0500 (Mon, 03 Feb 2025) EndedAt: 2025-02-03 19:34:06 -0500 (Mon, 03 Feb 2025) EllapsedTime: 1574.3 seconds RetCode: 0 Status: OK PackageFile: FELLA_1.26.0.tar.gz PackageFileSize: 3.435 MiB