Package: FGNet Version: 3.40.0 Command: /home/biocbuild/bbs-3.20-bioc/R/bin/R CMD check --install=check:FGNet.install-out.txt --library=/home/biocbuild/bbs-3.20-bioc/R/site-library --timings FGNet_3.40.0.tar.gz StartedAt: 2025-02-10 22:14:31 -0500 (Mon, 10 Feb 2025) EndedAt: 2025-02-10 22:15:28 -0500 (Mon, 10 Feb 2025) EllapsedTime: 57.0 seconds RetCode: 0 Status: WARNINGS CheckDir: FGNet.Rcheck Warnings: 1