Package: FGNet Version: 3.40.0 Command: rm -rf FGNet.buildbin-libdir && mkdir FGNet.buildbin-libdir && F:\biocbuild\bbs-3.20-bioc\R\bin\R.exe CMD INSTALL --build --library=FGNet.buildbin-libdir FGNet_3.40.0.tar.gz StartedAt: 2025-02-11 08:27:39 -0500 (Tue, 11 Feb 2025) EndedAt: 2025-02-11 08:28:08 -0500 (Tue, 11 Feb 2025) EllapsedTime: 28.9 seconds RetCode: 0 Status: OK PackageFile: FGNet_3.40.0.zip PackageFileSize: 1.694 MiB