Package: FGNet Version: 3.40.0 Command: F:\biocbuild\bbs-3.20-bioc\R\bin\R.exe CMD check --no-multiarch --install=check:FGNet.install-out.txt --library=F:\biocbuild\bbs-3.20-bioc\R\library --no-vignettes --timings FGNet_3.40.0.tar.gz StartedAt: 2025-02-04 01:50:35 -0500 (Tue, 04 Feb 2025) EndedAt: 2025-02-04 01:53:16 -0500 (Tue, 04 Feb 2025) EllapsedTime: 160.6 seconds RetCode: 0 Status: WARNINGS CheckDir: FGNet.Rcheck Warnings: 1