Package: FGNet Version: 3.40.0 Command: F:\biocbuild\bbs-3.20-bioc\R\bin\R.exe CMD INSTALL FGNet StartedAt: 2025-02-03 15:42:45 -0500 (Mon, 03 Feb 2025) EndedAt: 2025-02-03 15:43:14 -0500 (Mon, 03 Feb 2025) EllapsedTime: 29.1 seconds RetCode: 0 Status: OK