Package: FISHalyseR Version: 1.40.0 Command: /Library/Frameworks/R.framework/Resources/bin/R CMD build --keep-empty-dirs --no-resave-data FISHalyseR StartedAt: 2025-02-10 23:45:50 -0500 (Mon, 10 Feb 2025) EndedAt: 2025-02-10 23:46:16 -0500 (Mon, 10 Feb 2025) EllapsedTime: 26.5 seconds RetCode: 0 Status: OK PackageFile: FISHalyseR_1.40.0.tar.gz PackageFileSize: 781.5 KiB