Package: FISHalyseR Version: 1.40.0 Command: /Library/Frameworks/R.framework/Resources/bin/R CMD check --install=check:FISHalyseR.install-out.txt --library=/Library/Frameworks/R.framework/Resources/library --no-vignettes --timings FISHalyseR_1.40.0.tar.gz StartedAt: 2025-02-04 19:51:02 -0500 (Tue, 04 Feb 2025) EndedAt: 2025-02-04 19:51:53 -0500 (Tue, 04 Feb 2025) EllapsedTime: 50.9 seconds RetCode: 0 Status: WARNINGS CheckDir: FISHalyseR.Rcheck Warnings: 2