Package: FISHalyseR Version: 1.40.0 Command: /Library/Frameworks/R.framework/Resources/bin/R CMD INSTALL FISHalyseR StartedAt: 2025-02-03 16:59:22 -0500 (Mon, 03 Feb 2025) EndedAt: 2025-02-03 16:59:28 -0500 (Mon, 03 Feb 2025) EllapsedTime: 5.7 seconds RetCode: 0 Status: OK