Package: FISHalyseR Version: 1.40.0 Command: rm -rf FISHalyseR.buildbin-libdir && mkdir FISHalyseR.buildbin-libdir && /Users/biocbuild/BBS/utils/build-universal.sh FISHalyseR_1.40.0.tar.gz /Library/Frameworks/R.framework/Resources/bin/R FISHalyseR.buildbin-libdir StartedAt: 2025-01-31 12:48:15 -0500 (Fri, 31 Jan 2025) EndedAt: 2025-01-31 12:48:26 -0500 (Fri, 31 Jan 2025) EllapsedTime: 11.8 seconds RetCode: 0 Status: OK PackageFile: FISHalyseR_1.40.0.tgz PackageFileSize: 830.7 KiB