Package: FISHalyseR Version: 1.40.0 Command: /home/biocbuild/bbs-3.20-bioc/R/bin/R CMD check --install=check:FISHalyseR.install-out.txt --library=/home/biocbuild/bbs-3.20-bioc/R/site-library --timings FISHalyseR_1.40.0.tar.gz StartedAt: 2025-01-30 22:13:25 -0500 (Thu, 30 Jan 2025) EndedAt: 2025-01-30 22:14:24 -0500 (Thu, 30 Jan 2025) EllapsedTime: 59.1 seconds RetCode: 0 Status: WARNINGS CheckDir: FISHalyseR.Rcheck Warnings: 2