Package: FISHalyseR Version: 1.40.0 Command: chmod a+r FISHalyseR -R && F:\biocbuild\bbs-3.20-bioc\R\bin\R.exe CMD build --keep-empty-dirs --no-resave-data FISHalyseR StartedAt: 2025-02-03 19:09:12 -0500 (Mon, 03 Feb 2025) EndedAt: 2025-02-03 19:15:23 -0500 (Mon, 03 Feb 2025) EllapsedTime: 371.0 seconds RetCode: 0 Status: OK PackageFile: FISHalyseR_1.40.0.tar.gz PackageFileSize: 782.7 KiB