Package: FISHalyseR Version: 1.40.0 Command: /home/biocbuild/R/R/bin/R CMD build --keep-empty-dirs --no-resave-data FISHalyseR StartedAt: 2025-01-30 23:36:53 -0000 (Thu, 30 Jan 2025) EndedAt: 2025-01-30 23:37:12 -0000 (Thu, 30 Jan 2025) EllapsedTime: 19.0 seconds RetCode: 0 Status: OK PackageFile: FISHalyseR_1.40.0.tar.gz PackageFileSize: 778.6 KiB