Package: FLAMES Version: 2.0.2 Command: rm -rf FLAMES.buildbin-libdir && mkdir FLAMES.buildbin-libdir && /Users/biocbuild/BBS/utils/build-universal.sh FLAMES_2.0.2.tar.gz /Library/Frameworks/R.framework/Resources/bin/R FLAMES.buildbin-libdir StartedAt: 2025-02-05 15:51:30 -0500 (Wed, 05 Feb 2025) EndedAt: 2025-02-05 15:53:37 -0500 (Wed, 05 Feb 2025) EllapsedTime: 127.7 seconds RetCode: 0 Status: OK PackageFile: FLAMES_2.0.2.tgz PackageFileSize: 4.939 MiB