Package: FLAMES Version: 2.0.1 Command: /home/biocbuild/R/R/bin/R CMD build --keep-empty-dirs --no-resave-data FLAMES StartedAt: 2024-11-20 00:43:54 -0000 (Wed, 20 Nov 2024) EndedAt: 2024-11-20 00:49:19 -0000 (Wed, 20 Nov 2024) EllapsedTime: 325.5 seconds RetCode: 0 Status: OK PackageFile: FLAMES_2.0.1.tar.gz PackageFileSize: 3.749 MiB