Package: FLAMES Version: 2.0.2 Command: rm -rf FLAMES.buildbin-libdir && mkdir FLAMES.buildbin-libdir && /Users/biocbuild/BBS/utils/build-universal.sh FLAMES_2.0.2.tar.gz /Library/Frameworks/R.framework/Resources/bin/R FLAMES.buildbin-libdir StartedAt: 2025-02-04 12:57:03 -0500 (Tue, 04 Feb 2025) EndedAt: 2025-02-04 13:01:23 -0500 (Tue, 04 Feb 2025) EllapsedTime: 260.1 seconds RetCode: 0 Status: OK PackageFile: FLAMES_2.0.2.tgz PackageFileSize: 5.06 MiB