Package: FLAMES Version: 2.0.2 Command: /Library/Frameworks/R.framework/Resources/bin/R CMD build --keep-empty-dirs --no-resave-data FLAMES StartedAt: 2025-02-03 18:57:38 -0500 (Mon, 03 Feb 2025) EndedAt: 2025-02-03 19:04:10 -0500 (Mon, 03 Feb 2025) EllapsedTime: 392.6 seconds RetCode: 0 Status: OK PackageFile: FLAMES_2.0.2.tar.gz PackageFileSize: 3.897 MiB