Package: FLAMES Version: 2.0.2 Command: /Library/Frameworks/R.framework/Resources/bin/R CMD INSTALL FLAMES StartedAt: 2025-02-03 16:37:18 -0500 (Mon, 03 Feb 2025) EndedAt: 2025-02-03 16:41:08 -0500 (Mon, 03 Feb 2025) EllapsedTime: 229.8 seconds RetCode: 0 Status: OK