Package: FLAMES Version: 2.0.2 Command: /home/biocbuild/R/R/bin/R CMD build --keep-empty-dirs --no-resave-data FLAMES StartedAt: 2025-02-03 23:36:56 -0000 (Mon, 03 Feb 2025) EndedAt: 2025-02-03 23:41:42 -0000 (Mon, 03 Feb 2025) EllapsedTime: 286.1 seconds RetCode: 0 Status: OK PackageFile: FLAMES_2.0.2.tar.gz PackageFileSize: 3.748 MiB