Package: FLAMES Version: 2.0.2 Command: /home/biocbuild/R/R/bin/R CMD check --install=check:FLAMES.install-out.txt --library=/home/biocbuild/R/R/site-library --no-vignettes --timings FLAMES_2.0.2.tar.gz StartedAt: 2025-01-31 06:17:38 -0000 (Fri, 31 Jan 2025) EndedAt: 2025-01-31 06:27:15 -0000 (Fri, 31 Jan 2025) EllapsedTime: 576.6 seconds RetCode: 1 Status: ERROR CheckDir: FLAMES.Rcheck Warnings: NA