Package: FRASER Version: 2.2.0 Command: /Library/Frameworks/R.framework/Resources/bin/R CMD build --keep-empty-dirs --no-resave-data FRASER StartedAt: 2024-11-08 17:18:19 -0500 (Fri, 08 Nov 2024) EndedAt: 2024-11-08 17:19:52 -0500 (Fri, 08 Nov 2024) EllapsedTime: 93.0 seconds RetCode: 0 Status: OK PackageFile: FRASER_2.2.0.tar.gz PackageFileSize: 2.362 MiB