############################################################################## ############################################################################## ### ### Running command: ### ### /Library/Frameworks/R.framework/Resources/bin/R CMD check --install=check:FRASER.install-out.txt --library=/Library/Frameworks/R.framework/Resources/library --no-vignettes --timings FRASER_2.2.0.tar.gz ### ############################################################################## ############################################################################## * using log directory ‘/Users/biocbuild/bbs-3.20-bioc/meat/FRASER.Rcheck’ * using R version 4.4.1 (2024-06-14) * using platform: x86_64-apple-darwin20 * R was compiled by Apple clang version 14.0.0 (clang-1400.0.29.202) GNU Fortran (GCC) 12.2.0 * running under: macOS Monterey 12.7.6 * using session charset: UTF-8 * using option ‘--no-vignettes’ * checking for file ‘FRASER/DESCRIPTION’ ... OK * checking extension type ... Package * this is package ‘FRASER’ version ‘2.2.0’ * package encoding: UTF-8 * checking package namespace information ... OK * checking package dependencies ...Warning: unable to access index for repository https://CRAN.R-project.org/src/contrib: cannot open URL 'https://CRAN.R-project.org/src/contrib/PACKAGES' OK * checking if this is a source package ... OK * checking if there is a namespace ... OK * checking for hidden files and directories ... OK * checking for portable file names ... OK * checking for sufficient/correct file permissions ... OK * checking whether package ‘FRASER’ can be installed ... OK * used C++ compiler: ‘Apple clang version 14.0.0 (clang-1400.0.29.202)’ * used SDK: ‘MacOSX11.3.sdk’ * checking installed package size ... OK * checking package directory ... OK * checking ‘build’ directory ... OK * checking DESCRIPTION meta-information ... NOTE License stub is invalid DCF. * checking top-level files ... OK * checking for left-over files ... OK * checking index information ... OK * checking package subdirectories ... OK * checking code files for non-ASCII characters ... OK * checking R files for syntax errors ... OK * checking whether the package can be loaded ... OK * checking whether the package can be loaded with stated dependencies ... OK * checking whether the package can be unloaded cleanly ... OK * checking whether the namespace can be loaded with stated dependencies ... OK * checking whether the namespace can be unloaded cleanly ... OK * checking whether startup messages can be suppressed ... OK * checking dependencies in R code ... NOTE Unexported objects imported by ':::' calls: 'S4Vectors:::selectSome' 'ggbio:::.buildFacetsFromArgs' See the note in ?`:::` about the use of this operator. * checking S3 generic/method consistency ... OK * checking replacement functions ... OK * checking foreign function calls ... OK * checking R code for possible problems ... NOTE annotateRangesWithTxDb: no visible binding for global variable ‘include’ calculatePadjValuesOnSubset : : no visible binding for global variable ‘gene_rowIdx’ plotVolcano.FRASER: no visible binding for global variable ‘aberrantLabel’ plotVolcano,FraserDataSet: no visible binding for global variable ‘aberrantLabel’ results,FraserDataSet: no visible binding for global variable ‘padjust’ results,FraserDataSet: no visible binding for global variable ‘pValueGene’ results,FraserDataSet: no visible binding for global variable ‘padjustGene’ Undefined global functions or variables: aberrantLabel gene_rowIdx include pValueGene padjust padjustGene * checking Rd files ... OK * checking Rd metadata ... OK * checking Rd cross-references ... OK * checking for missing documentation entries ... OK * checking for code/documentation mismatches ... OK * checking Rd \usage sections ... OK * checking Rd contents ... OK * checking for unstated dependencies in examples ... OK * checking line endings in C/C++/Fortran sources/headers ... OK * checking line endings in Makefiles ... OK * checking compilation flags in Makevars ... OK * checking for GNU extensions in Makefiles ... OK * checking for portable use of $(BLAS_LIBS) and $(LAPACK_LIBS) ... OK * checking use of PKG_*FLAGS in Makefiles ... OK * checking compiled code ... NOTE Note: information on .o files is not available * checking sizes of PDF files under ‘inst/doc’ ... OK * checking files in ‘vignettes’ ... OK * checking examples ... OK Examples with CPU (user + system) or elapsed time > 5s user system elapsed plotFunctions 89.131 1.356 90.723 potentialImpactAnnotations 36.406 0.783 37.302 FRASER 33.170 0.799 34.686 injectOutliers 19.984 0.078 20.109 annotateRanges 17.120 0.479 68.222 results 15.117 0.234 15.395 optimHyperParams 14.884 0.100 15.038 mergeExternalData 14.802 0.156 15.004 calculatePSIValues 13.244 0.132 13.427 counts 12.686 0.139 12.864 fds-methods 12.497 0.120 12.661 filtering 12.440 0.119 12.609 getter_setter_functions 11.678 0.115 11.829 createTestFraserDataSet 11.374 0.103 11.515 subset 10.530 0.085 10.643 * checking for unstated dependencies in ‘tests’ ... OK * checking tests ... Running ‘testthat.R’ OK * checking for unstated dependencies in vignettes ... OK * checking package vignettes ... OK * checking running R code from vignettes ... SKIPPED * checking re-building of vignette outputs ... SKIPPED * checking PDF version of manual ... OK * DONE Status: 4 NOTEs See ‘/Users/biocbuild/bbs-3.20-bioc/meat/FRASER.Rcheck/00check.log’ for details.