Package: FRASER Version: 2.2.0 Command: /Library/Frameworks/R.framework/Resources/bin/R CMD check --install=check:FRASER.install-out.txt --library=/Library/Frameworks/R.framework/Resources/library --no-vignettes --timings FRASER_2.2.0.tar.gz StartedAt: 2025-02-04 03:53:27 -0500 (Tue, 04 Feb 2025) EndedAt: 2025-02-04 04:30:09 -0500 (Tue, 04 Feb 2025) EllapsedTime: 2202.4 seconds RetCode: 0 Status: OK CheckDir: FRASER.Rcheck Warnings: 0