Package: FRASER Version: 2.2.0 Command: /home/biocbuild/bbs-3.20-bioc/R/bin/R CMD check --install=check:FRASER.install-out.txt --library=/home/biocbuild/bbs-3.20-bioc/R/site-library --timings FRASER_2.2.0.tar.gz StartedAt: 2025-02-03 22:28:31 -0500 (Mon, 03 Feb 2025) EndedAt: 2025-02-03 22:46:46 -0500 (Mon, 03 Feb 2025) EllapsedTime: 1095.2 seconds RetCode: 0 Status: OK CheckDir: FRASER.Rcheck Warnings: 0