Package: FRASER Version: 2.2.0 Command: /home/biocbuild/bbs-3.20-bioc/R/bin/R CMD INSTALL FRASER StartedAt: 2025-02-03 16:01:10 -0500 (Mon, 03 Feb 2025) EndedAt: 2025-02-03 16:02:37 -0500 (Mon, 03 Feb 2025) EllapsedTime: 87.2 seconds RetCode: 0 Status: OK