Package: FRASER Version: 2.2.0 Command: F:\biocbuild\bbs-3.20-bioc\R\bin\R.exe CMD INSTALL FRASER StartedAt: 2025-02-03 16:48:47 -0500 (Mon, 03 Feb 2025) EndedAt: 2025-02-03 16:52:42 -0500 (Mon, 03 Feb 2025) EllapsedTime: 234.9 seconds RetCode: 0 Status: OK