Package: FRASER Version: 2.2.0 Command: /home/biocbuild/R/R/bin/R CMD INSTALL FRASER StartedAt: 2025-02-03 21:16:06 -0000 (Mon, 03 Feb 2025) EndedAt: 2025-02-03 21:17:54 -0000 (Mon, 03 Feb 2025) EllapsedTime: 108.5 seconds RetCode: 0 Status: OK