Package: FRGEpistasis Version: 1.42.0 Command: /Library/Frameworks/R.framework/Resources/bin/R CMD INSTALL FRGEpistasis StartedAt: 2025-02-03 16:51:48 -0500 (Mon, 03 Feb 2025) EndedAt: 2025-02-03 16:52:02 -0500 (Mon, 03 Feb 2025) EllapsedTime: 14.1 seconds RetCode: 0 Status: OK