Package: FamAgg Version: 1.34.0 Command: /Library/Frameworks/R.framework/Resources/bin/R CMD build --keep-empty-dirs --no-resave-data FamAgg StartedAt: 2025-02-03 23:29:10 -0500 (Mon, 03 Feb 2025) EndedAt: 2025-02-03 23:30:23 -0500 (Mon, 03 Feb 2025) EllapsedTime: 73.4 seconds RetCode: 0 Status: OK PackageFile: FamAgg_1.34.0.tar.gz PackageFileSize: 1.649 MiB