Package: FamAgg Version: 1.34.0 Command: /Library/Frameworks/R.framework/Resources/bin/R CMD check --install=check:FamAgg.install-out.txt --library=/Library/Frameworks/R.framework/Resources/library --no-vignettes --timings FamAgg_1.34.0.tar.gz StartedAt: 2025-02-04 03:38:02 -0500 (Tue, 04 Feb 2025) EndedAt: 2025-02-04 03:42:40 -0500 (Tue, 04 Feb 2025) EllapsedTime: 277.9 seconds RetCode: 0 Status: OK CheckDir: FamAgg.Rcheck Warnings: 0