Package: FamAgg Version: 1.34.0 Command: rm -rf FamAgg.buildbin-libdir && mkdir FamAgg.buildbin-libdir && F:\biocbuild\bbs-3.20-bioc\R\bin\R.exe CMD INSTALL --build --library=FamAgg.buildbin-libdir FamAgg_1.34.0.tar.gz StartedAt: 2025-02-04 08:29:04 -0500 (Tue, 04 Feb 2025) EndedAt: 2025-02-04 08:30:12 -0500 (Tue, 04 Feb 2025) EllapsedTime: 67.7 seconds RetCode: 0 Status: OK PackageFile: FamAgg_1.34.0.zip PackageFileSize: 1.419 MiB